BEGIN:VCALENDAR
VERSION:2.0
PRODID:-//CERN//INDICO//EN
BEGIN:VEVENT
SUMMARY:Boas-Vindas
DTSTART;VALUE=DATE-TIME:20260326T120000Z
DTEND;VALUE=DATE-TIME:20260326T121500Z
DTSTAMP;VALUE=DATE-TIME:20260422T024509Z
UID:indico-contribution-1211@indico.rnp.br
DESCRIPTION:Responsável: Iara / Paradisi\n\nhttps://indico.rnp.br/event/1
 70/contributions/1211/
LOCATION:
URL:https://indico.rnp.br/event/170/contributions/1211/
END:VEVENT
END:VCALENDAR
