BEGIN:VCALENDAR
VERSION:2.0
PRODID:-//CERN//INDICO//EN
BEGIN:VEVENT
SUMMARY:Agenda
DTSTART;VALUE=DATE-TIME:20260326T121500Z
DTEND;VALUE=DATE-TIME:20260326T123000Z
DTSTAMP;VALUE=DATE-TIME:20260422T041834Z
UID:indico-contribution-1212@indico.rnp.br
DESCRIPTION:Responsável: Léo Carvalho / Lucas Bondan\n\nhttps://indico.r
 np.br/event/170/contributions/1212/
LOCATION:
URL:https://indico.rnp.br/event/170/contributions/1212/
END:VEVENT
END:VCALENDAR
