BEGIN:VCALENDAR
VERSION:2.0
PRODID:-//CERN//INDICO//EN
BEGIN:VEVENT
SUMMARY:OpenRAN@Brasil: O que Construímos até Aqui e  Próximos Passos
DTSTART;VALUE=DATE-TIME:20260326T135000Z
DTEND;VALUE=DATE-TIME:20260326T142000Z
DTSTAMP;VALUE=DATE-TIME:20260422T212111Z
UID:indico-contribution-1214@indico.rnp.br
DESCRIPTION:Responsável: Iara Machado / Lucas Bondan\n\nhttps://indico.rn
 p.br/event/170/contributions/1214/
LOCATION:
URL:https://indico.rnp.br/event/170/contributions/1214/
END:VEVENT
END:VCALENDAR
