BEGIN:VCALENDAR
VERSION:2.0
PRODID:-//CERN//INDICO//EN
BEGIN:VEVENT
SUMMARY:Arquitetura do Testbed: Infraestrutura e Componentes de Software
DTSTART;VALUE=DATE-TIME:20260326T142000Z
DTEND;VALUE=DATE-TIME:20260326T151000Z
DTSTAMP;VALUE=DATE-TIME:20260422T062011Z
UID:indico-contribution-1215@indico.rnp.br
DESCRIPTION:Responsável: Fernando Farias / Gustavo Araújo\n\nhttps://ind
 ico.rnp.br/event/170/contributions/1215/
LOCATION:
URL:https://indico.rnp.br/event/170/contributions/1215/
END:VEVENT
END:VCALENDAR
