BEGIN:VCALENDAR
VERSION:2.0
PRODID:-//CERN//INDICO//EN
BEGIN:VEVENT
SUMMARY:Fluxos de Suporte e Atendimento do Testbed Open RAN
DTSTART;VALUE=DATE-TIME:20260326T151000Z
DTEND;VALUE=DATE-TIME:20260326T153000Z
DTSTAMP;VALUE=DATE-TIME:20260422T041834Z
UID:indico-contribution-1217@indico.rnp.br
DESCRIPTION:Responsável: Leandro Mondin\n\nhttps://indico.rnp.br/event/17
 0/contributions/1217/
LOCATION:
URL:https://indico.rnp.br/event/170/contributions/1217/
END:VEVENT
END:VCALENDAR
