BEGIN:VCALENDAR
VERSION:2.0
PRODID:-//CERN//INDICO//EN
BEGIN:VEVENT
SUMMARY:Apresentação de Estudos e Experimentos da RNP no OpenRAN@Brasil
DTSTART;VALUE=DATE-TIME:20260326T201500Z
DTEND;VALUE=DATE-TIME:20260326T203500Z
DTSTAMP;VALUE=DATE-TIME:20260422T041834Z
UID:indico-contribution-1218@indico.rnp.br
DESCRIPTION:Apresentação das pesquisas desenvolvidas pela equipe da RNP 
 no contexto do Programa OpenRAN@Brasil.\nResponsável: Gustavo Araújo\n\n
 https://indico.rnp.br/event/170/contributions/1218/
LOCATION:
URL:https://indico.rnp.br/event/170/contributions/1218/
END:VEVENT
END:VCALENDAR
