BEGIN:VCALENDAR
VERSION:2.0
PRODID:-//CERN//INDICO//EN
BEGIN:VEVENT
SUMMARY:PoC Failover
DTSTART;VALUE=DATE-TIME:20260326T203500Z
DTEND;VALUE=DATE-TIME:20260326T205500Z
DTSTAMP;VALUE=DATE-TIME:20260422T195003Z
UID:indico-contribution-1220@indico.rnp.br
DESCRIPTION:Responsável: Flávio UFG\n\nhttps://indico.rnp.br/event/170/c
 ontributions/1220/
LOCATION:
URL:https://indico.rnp.br/event/170/contributions/1220/
END:VEVENT
END:VCALENDAR
