BEGIN:VCALENDAR
VERSION:2.0
PRODID:-//CERN//INDICO//EN
BEGIN:VEVENT
SUMMARY:Boas-vindas e agenda
DTSTART;VALUE=DATE-TIME:20260327T120000Z
DTEND;VALUE=DATE-TIME:20260327T121000Z
DTSTAMP;VALUE=DATE-TIME:20260422T055243Z
UID:indico-contribution-1222@indico.rnp.br
DESCRIPTION:Responsável: Léo Carvalho e Lucas Bondan\n\nhttps://indico.r
 np.br/event/170/contributions/1222/
LOCATION:
URL:https://indico.rnp.br/event/170/contributions/1222/
END:VEVENT
END:VCALENDAR
