BEGIN:VCALENDAR
VERSION:2.0
PRODID:-//CERN//INDICO//EN
BEGIN:VEVENT
SUMMARY:Diretrizes de Execução Administrativa e Financeira
DTSTART;VALUE=DATE-TIME:20260327T121000Z
DTEND;VALUE=DATE-TIME:20260327T124000Z
DTSTAMP;VALUE=DATE-TIME:20260422T041834Z
UID:indico-contribution-1223@indico.rnp.br
DESCRIPTION:Responsável: Paula Silva\n\nhttps://indico.rnp.br/event/170/c
 ontributions/1223/
LOCATION:
URL:https://indico.rnp.br/event/170/contributions/1223/
END:VEVENT
END:VCALENDAR
