BEGIN:VCALENDAR
VERSION:2.0
PRODID:-//CERN//INDICO//EN
BEGIN:VEVENT
SUMMARY:Atividades de disseminação
DTSTART;VALUE=DATE-TIME:20260327T124000Z
DTEND;VALUE=DATE-TIME:20260327T130000Z
DTSTAMP;VALUE=DATE-TIME:20260422T055243Z
UID:indico-contribution-1224@indico.rnp.br
DESCRIPTION:Responsável: Larriza e Eduardo Melão\n\nhttps://indico.rnp.b
 r/event/170/contributions/1224/
LOCATION:
URL:https://indico.rnp.br/event/170/contributions/1224/
END:VEVENT
END:VCALENDAR
