BEGIN:VCALENDAR
VERSION:2.0
PRODID:-//CERN//INDICO//EN
BEGIN:VEVENT
SUMMARY:Apresentação dos Resultados do Programa em eventos
DTSTART;VALUE=DATE-TIME:20260327T130000Z
DTEND;VALUE=DATE-TIME:20260327T133000Z
DTSTAMP;VALUE=DATE-TIME:20260422T041834Z
UID:indico-contribution-1225@indico.rnp.br
DESCRIPTION:Responsável: Lucas Bondan / Léo Carvalho / Fernando Farias /
  Rodolfo Costa\n\nhttps://indico.rnp.br/event/170/contributions/1225/
LOCATION:
URL:https://indico.rnp.br/event/170/contributions/1225/
END:VEVENT
END:VCALENDAR
