BEGIN:VCALENDAR
VERSION:2.0
PRODID:-//CERN//INDICO//EN
BEGIN:VEVENT
SUMMARY:Ações de Inovação
DTSTART;VALUE=DATE-TIME:20260327T135000Z
DTEND;VALUE=DATE-TIME:20260327T141000Z
DTSTAMP;VALUE=DATE-TIME:20260422T041834Z
UID:indico-contribution-1226@indico.rnp.br
DESCRIPTION:Responsável: Rafael Valle\n\nhttps://indico.rnp.br/event/170/
 contributions/1226/
LOCATION:
URL:https://indico.rnp.br/event/170/contributions/1226/
END:VEVENT
END:VCALENDAR
