BEGIN:VCALENDAR
VERSION:2.0
PRODID:-//CERN//INDICO//EN
BEGIN:VEVENT
SUMMARY:A importância do OpenRAN@Brasil no Centro de Competência EMBRAPI
 I em Open RAN
DTSTART;VALUE=DATE-TIME:20260327T141000Z
DTEND;VALUE=DATE-TIME:20260327T145000Z
DTSTAMP;VALUE=DATE-TIME:20260422T055243Z
UID:indico-contribution-1227@indico.rnp.br
DESCRIPTION:Responsável: Eduardo Melão\n\nhttps://indico.rnp.br/event/17
 0/contributions/1227/
LOCATION:
URL:https://indico.rnp.br/event/170/contributions/1227/
END:VEVENT
END:VCALENDAR
