BEGIN:VCALENDAR
VERSION:2.0
PRODID:-//CERN//INDICO//EN
BEGIN:VEVENT
SUMMARY:Fechamento e encaminhamentos
DTSTART;VALUE=DATE-TIME:20260327T145000Z
DTEND;VALUE=DATE-TIME:20260327T150000Z
DTSTAMP;VALUE=DATE-TIME:20260422T150915Z
UID:indico-contribution-1228@indico.rnp.br
DESCRIPTION:Responsável: Léo Carvalho e Lucas Bondan\n\nhttps://indico.r
 np.br/event/170/contributions/1228/
LOCATION:
URL:https://indico.rnp.br/event/170/contributions/1228/
END:VEVENT
END:VCALENDAR
