BEGIN:VCALENDAR
VERSION:2.0
PRODID:-//CERN//INDICO//EN
BEGIN:VEVENT
SUMMARY:Visita técnica à ilha do CPqD
DTSTART;VALUE=DATE-TIME:20260327T170000Z
DTEND;VALUE=DATE-TIME:20260327T200000Z
DTSTAMP;VALUE=DATE-TIME:20260422T195008Z
UID:indico-contribution-1229@indico.rnp.br
DESCRIPTION:Responsável: Guilherme Gutierrez / Rodolfo Costa / Eduardo Me
 lão\n\nhttps://indico.rnp.br/event/170/contributions/1229/
LOCATION:
URL:https://indico.rnp.br/event/170/contributions/1229/
END:VEVENT
END:VCALENDAR
