BEGIN:VCALENDAR
VERSION:2.0
PRODID:-//CERN//INDICO//EN
BEGIN:VEVENT
SUMMARY:Script de gerenciamento de recursos do Testbed Open RAN no Google 
 Agenda
DTSTART;VALUE=DATE-TIME:20260326T205500Z
DTEND;VALUE=DATE-TIME:20260326T211500Z
DTSTAMP;VALUE=DATE-TIME:20260422T195025Z
UID:indico-contribution-1230@indico.rnp.br
DESCRIPTION:Apresentador: Guilherme Ruyz Gutierrez (CPQD)\n\nhttps://indic
 o.rnp.br/event/170/contributions/1230/
LOCATION:
URL:https://indico.rnp.br/event/170/contributions/1230/
END:VEVENT
END:VCALENDAR
