BEGIN:VCALENDAR
VERSION:2.0
PRODID:-//CERN//INDICO//EN
BEGIN:VEVENT
SUMMARY:Apresentação dos Resultados da Chamada
DTSTART;VALUE=DATE-TIME:20260326T173000Z
DTEND;VALUE=DATE-TIME:20260326T174500Z
DTSTAMP;VALUE=DATE-TIME:20260422T014140Z
UID:indico-contribution-1231@indico.rnp.br
DESCRIPTION:Apresentador: Daniel Marques\nApresentação dos resultados da
  Chamada para Seleção de Aplicações 5G Open RAN e Hospedeiros.\n\nhttp
 s://indico.rnp.br/event/170/contributions/1231/
LOCATION:
URL:https://indico.rnp.br/event/170/contributions/1231/
END:VEVENT
END:VCALENDAR
