BEGIN:VCALENDAR
VERSION:2.0
PRODID:-//CERN//INDICO//EN
BEGIN:VEVENT
SUMMARY:GreenRAN: Open RAN Sustentável para o Agro e Campi Inteligentes
DTSTART;VALUE=DATE-TIME:20260326T174500Z
DTEND;VALUE=DATE-TIME:20260326T180000Z
DTSTAMP;VALUE=DATE-TIME:20260422T212112Z
UID:indico-contribution-1232@indico.rnp.br
DESCRIPTION:Apresentadores: Eduardo Cerqueira e Aldebaro Klautau\nApresent
 ação sobre a aplicação GreenRAN\, detalhando sua execução no hospede
 iro (UFPA)\, os casos de uso e as tecnologias envolvidas.\n\nhttps://indic
 o.rnp.br/event/170/contributions/1232/
LOCATION:
URL:https://indico.rnp.br/event/170/contributions/1232/
END:VEVENT
END:VCALENDAR
