BEGIN:VCALENDAR
VERSION:2.0
PRODID:-//CERN//INDICO//EN
BEGIN:VEVENT
SUMMARY:Sentinel-5GO: Monitoramento Colaborativo de Segurança e Meio Ambi
 ente em Redes 5G Open RAN
DTSTART;VALUE=DATE-TIME:20260326T180000Z
DTEND;VALUE=DATE-TIME:20260326T181500Z
DTSTAMP;VALUE=DATE-TIME:20260422T064032Z
UID:indico-contribution-1233@indico.rnp.br
DESCRIPTION:Apresentador: Augusto Neto\nApresentação sobre a aplicação
  Sentinel-5GO\, detalhando sua execução no hospedeiro (UFRN)\, os casos 
 de uso e as tecnologias envolvidas.\n\nhttps://indico.rnp.br/event/170/con
 tributions/1233/
LOCATION:
URL:https://indico.rnp.br/event/170/contributions/1233/
END:VEVENT
END:VCALENDAR
