BEGIN:VCALENDAR
VERSION:2.0
PRODID:-//CERN//INDICO//EN
BEGIN:VEVENT
SUMMARY:OoC – Olha o Carro! Experimentando V2X em uma Rede 5G Open RAN
DTSTART;VALUE=DATE-TIME:20260326T181500Z
DTEND;VALUE=DATE-TIME:20260326T183000Z
DTSTAMP;VALUE=DATE-TIME:20260422T150915Z
UID:indico-contribution-1234@indico.rnp.br
DESCRIPTION:Apresentadores: Fábio Verdi e CPQD\nApresentação sobre a ap
 licação OoC\, detalhando sua execução no hospedeiro (CPQD)\, os casos 
 de uso e as tecnologias envolvidas.\n\nhttps://indico.rnp.br/event/170/con
 tributions/1234/
LOCATION:
URL:https://indico.rnp.br/event/170/contributions/1234/
END:VEVENT
END:VCALENDAR
