BEGIN:VCALENDAR
VERSION:2.0
PRODID:-//CERN//INDICO//EN
BEGIN:VEVENT
SUMMARY:CampusRAN: Campus Inteligente com Rede de Acesso via Rádio Aberta
DTSTART;VALUE=DATE-TIME:20260326T183000Z
DTEND;VALUE=DATE-TIME:20260326T184500Z
DTSTAMP;VALUE=DATE-TIME:20260422T055243Z
UID:indico-contribution-1235@indico.rnp.br
DESCRIPTION:Apresentadores: Dianne Scherly e RNP\nApresentação sobre a a
 plicação CampusRAN\, detalhando sua execução no hospedeiro (RNP)\, os 
 casos de uso e as tecnologias envolvidas.\n\nhttps://indico.rnp.br/event/1
 70/contributions/1235/
LOCATION:
URL:https://indico.rnp.br/event/170/contributions/1235/
END:VEVENT
END:VCALENDAR
