BEGIN:VCALENDAR
VERSION:2.0
PRODID:-//CERN//INDICO//EN
BEGIN:VEVENT
SUMMARY:OpenHealth5G: Open 5G Networking for Digital Health
DTSTART;VALUE=DATE-TIME:20260326T184500Z
DTEND;VALUE=DATE-TIME:20260326T190000Z
DTSTAMP;VALUE=DATE-TIME:20260422T064032Z
UID:indico-contribution-1236@indico.rnp.br
DESCRIPTION:Apresentadores: Juliano Wickboldt e Daniel Meyer\nApresentaç
 ão sobre a aplicação OpenHealth5G\, detalhando sua execução nos hospe
 deiros do Sul (RNP/POP-RS\, UFRGS\, Unisinos\, UFCSPA e PUCRS)\, os casos 
 de uso e as tecnologias envolvidas.\n\nhttps://indico.rnp.br/event/170/con
 tributions/1236/
LOCATION:
URL:https://indico.rnp.br/event/170/contributions/1236/
END:VEVENT
END:VCALENDAR
