BEGIN:VCALENDAR
VERSION:2.0
PRODID:-//CERN//INDICO//EN
BEGIN:VEVENT
SUMMARY:HADES 5G: Operações Críticas com Robôs Geolocalizados Integrad
 os a Gêmeos Digitais
DTSTART;VALUE=DATE-TIME:20260326T190000Z
DTEND;VALUE=DATE-TIME:20260326T191500Z
DTSTAMP;VALUE=DATE-TIME:20260422T070353Z
UID:indico-contribution-1237@indico.rnp.br
DESCRIPTION:Apresentadores: Flávio Geraldo\nApresentação sobre a aplica
 ção Hades 5G\, detalhando sua execução no hospedeiro do UFG/Cerise\, o
 s casos de uso e as tecnologias envolvidas.\n\nhttps://indico.rnp.br/event
 /170/contributions/1237/
LOCATION:
URL:https://indico.rnp.br/event/170/contributions/1237/
END:VEVENT
END:VCALENDAR
