BEGIN:VCALENDAR
VERSION:2.0
PRODID:-//CERN//INDICO//EN
BEGIN:VEVENT
SUMMARY:Sandbox Regulatório
DTSTART;VALUE=DATE-TIME:20260326T193000Z
DTEND;VALUE=DATE-TIME:20260326T194500Z
DTSTAMP;VALUE=DATE-TIME:20260422T150915Z
UID:indico-contribution-1238@indico.rnp.br
DESCRIPTION:Apresentador: Priscila Solis\nApresentação sobre as atividad
 es relacionadas com o Sandbox Regulatório.\n\nhttps://indico.rnp.br/event
 /170/contributions/1238/
LOCATION:
URL:https://indico.rnp.br/event/170/contributions/1238/
END:VEVENT
END:VCALENDAR
