BEGIN:VCALENDAR
VERSION:2.0
PRODID:-//CERN//INDICO//EN
BEGIN:VEVENT
SUMMARY:MEI5GO - Metaverso na Educação Imersiva alavancado por tecnologi
 as 5G Open RAN
DTSTART;VALUE=DATE-TIME:20260326T191500Z
DTEND;VALUE=DATE-TIME:20260326T193000Z
DTSTAMP;VALUE=DATE-TIME:20260422T015129Z
UID:indico-contribution-1276@indico.rnp.br
DESCRIPTION:Apresentação: Kleber Vieira\nApresentação da aplicação M
 EI5GO\, envolvendo o tema educação imersiva e conectada.\n\nhttps://indi
 co.rnp.br/event/170/contributions/1276/
LOCATION:
URL:https://indico.rnp.br/event/170/contributions/1276/
END:VEVENT
END:VCALENDAR
