BEGIN:VCALENDAR
VERSION:2.0
PRODID:-//CERN//INDICO//EN
BEGIN:VEVENT
SUMMARY:Abertura
DTSTART;VALUE=DATE-TIME:20260331T120000Z
DTEND;VALUE=DATE-TIME:20260331T121500Z
DTSTAMP;VALUE=DATE-TIME:20260422T014140Z
UID:indico-contribution-1269@indico.rnp.br
DESCRIPTION:https://indico.rnp.br/event/172/contributions/1269/
LOCATION:
URL:https://indico.rnp.br/event/172/contributions/1269/
END:VEVENT
END:VCALENDAR
