BEGIN:VCALENDAR
VERSION:2.0
PRODID:-//CERN//INDICO//EN
BEGIN:VEVENT
SUMMARY:LedgerTech
DTSTART;VALUE=DATE-TIME:20260331T121500Z
DTEND;VALUE=DATE-TIME:20260331T125000Z
DTSTAMP;VALUE=DATE-TIME:20260422T150915Z
UID:indico-contribution-1270@indico.rnp.br
DESCRIPTION:https://indico.rnp.br/event/172/contributions/1270/
LOCATION:
URL:https://indico.rnp.br/event/172/contributions/1270/
END:VEVENT
END:VCALENDAR
