BEGIN:VCALENDAR
VERSION:2.0
PRODID:-//CERN//INDICO//EN
BEGIN:VEVENT
SUMMARY:Certisecure
DTSTART;VALUE=DATE-TIME:20260331T125000Z
DTEND;VALUE=DATE-TIME:20260331T132500Z
DTSTAMP;VALUE=DATE-TIME:20260422T014141Z
UID:indico-contribution-1271@indico.rnp.br
DESCRIPTION:https://indico.rnp.br/event/172/contributions/1271/
LOCATION:
URL:https://indico.rnp.br/event/172/contributions/1271/
END:VEVENT
END:VCALENDAR
