BEGIN:VCALENDAR
VERSION:2.0
PRODID:-//CERN//INDICO//EN
BEGIN:VEVENT
SUMMARY:Wire Labs
DTSTART;VALUE=DATE-TIME:20260331T132500Z
DTEND;VALUE=DATE-TIME:20260331T140000Z
DTSTAMP;VALUE=DATE-TIME:20260422T062011Z
UID:indico-contribution-1272@indico.rnp.br
DESCRIPTION:https://indico.rnp.br/event/172/contributions/1272/
LOCATION:
URL:https://indico.rnp.br/event/172/contributions/1272/
END:VEVENT
END:VCALENDAR
