BEGIN:VCALENDAR
VERSION:2.0
PRODID:-//CERN//INDICO//EN
BEGIN:VEVENT
SUMMARY:Sollytch
DTSTART;VALUE=DATE-TIME:20260331T140000Z
DTEND;VALUE=DATE-TIME:20260331T143500Z
DTSTAMP;VALUE=DATE-TIME:20260422T041835Z
UID:indico-contribution-1273@indico.rnp.br
DESCRIPTION:https://indico.rnp.br/event/172/contributions/1273/
LOCATION:
URL:https://indico.rnp.br/event/172/contributions/1273/
END:VEVENT
END:VCALENDAR
