BEGIN:VCALENDAR
VERSION:2.0
PRODID:-//CERN//INDICO//EN
BEGIN:VEVENT
SUMMARY:SAGIT
DTSTART;VALUE=DATE-TIME:20260331T143500Z
DTEND;VALUE=DATE-TIME:20260331T144500Z
DTSTAMP;VALUE=DATE-TIME:20260422T212116Z
UID:indico-contribution-1274@indico.rnp.br
DESCRIPTION:https://indico.rnp.br/event/172/contributions/1274/
LOCATION:
URL:https://indico.rnp.br/event/172/contributions/1274/
END:VEVENT
END:VCALENDAR
