BEGIN:VCALENDAR
VERSION:2.0
PRODID:-//CERN//INDICO//EN
BEGIN:VEVENT
SUMMARY:Encerramento
DTSTART;VALUE=DATE-TIME:20260331T144500Z
DTEND;VALUE=DATE-TIME:20260331T150000Z
DTSTAMP;VALUE=DATE-TIME:20260422T212112Z
UID:indico-contribution-1275@indico.rnp.br
DESCRIPTION:https://indico.rnp.br/event/172/contributions/1275/
LOCATION:
URL:https://indico.rnp.br/event/172/contributions/1275/
END:VEVENT
END:VCALENDAR
