BEGIN:VCALENDAR
VERSION:2.0
PRODID:-//CERN//INDICO//EN
BEGIN:VEVENT
SUMMARY:Credenciamento
DTSTART;VALUE=DATE-TIME:20260505T130000Z
DTEND;VALUE=DATE-TIME:20260505T140000Z
DTSTAMP;VALUE=DATE-TIME:20260423T015011Z
UID:indico-contribution-1376@indico.rnp.br
DESCRIPTION:https://indico.rnp.br/event/175/contributions/1376/
LOCATION:Universidade Federal do Acre (UFAC)\, Rio Branco\, Acre Centro  d
 e Convenções da UFAC
URL:https://indico.rnp.br/event/175/contributions/1376/
END:VEVENT
END:VCALENDAR
