BEGIN:VCALENDAR
VERSION:2.0
PRODID:-//CERN//INDICO//EN
BEGIN:VEVENT
SUMMARY:Palestra - Módulo Educacional de Internet da Coisas IoT para Apli
 cações na Amazônia.
DTSTART;VALUE=DATE-TIME:20260505T141000Z
DTEND;VALUE=DATE-TIME:20260505T144000Z
DTSTAMP;VALUE=DATE-TIME:20260423T015002Z
UID:indico-contribution-1377@indico.rnp.br
DESCRIPTION:Speakers: Baldo Luque (UFAC)\nhttps://indico.rnp.br/event/175/
 contributions/1377/
LOCATION:Universidade Federal do Acre (UFAC)\, Rio Branco\, Acre Centro  d
 e Convenções da UFAC
URL:https://indico.rnp.br/event/175/contributions/1377/
END:VEVENT
END:VCALENDAR
