BEGIN:VCALENDAR
VERSION:2.0
PRODID:-//CERN//INDICO//EN
BEGIN:VEVENT
SUMMARY:Palestra - Fortaleça sua Segurança com Soluções Open-Source
DTSTART;VALUE=DATE-TIME:20260505T153000Z
DTEND;VALUE=DATE-TIME:20260505T161000Z
DTSTAMP;VALUE=DATE-TIME:20260423T015002Z
UID:indico-contribution-1379@indico.rnp.br
DESCRIPTION:Speakers: Matheus Camargo (CAIS/RNP)\nhttps://indico.rnp.br/ev
 ent/175/contributions/1379/
LOCATION:Universidade Federal do Acre (UFAC)\, Rio Branco\, Acre Centro  d
 e Convenções da UFAC
URL:https://indico.rnp.br/event/175/contributions/1379/
END:VEVENT
END:VCALENDAR
