BEGIN:VCALENDAR
VERSION:2.0
PRODID:-//CERN//INDICO//EN
BEGIN:VEVENT
SUMMARY:Palestra - Proteção e resiliência com o SOC de Coordenação e 
 os SOCs Distribuídos
DTSTART;VALUE=DATE-TIME:20260505T200000Z
DTEND;VALUE=DATE-TIME:20260505T203000Z
DTSTAMP;VALUE=DATE-TIME:20260422T225610Z
UID:indico-contribution-1381@indico.rnp.br
DESCRIPTION:Speakers: Equipe SOC/CAIS (RNP)\nhttps://indico.rnp.br/event/1
 75/contributions/1381/
LOCATION:Universidade Federal do Acre (UFAC)\, Rio Branco\, Acre Centro  d
 e Convenções da UFAC
URL:https://indico.rnp.br/event/175/contributions/1381/
END:VEVENT
END:VCALENDAR
