BEGIN:VCALENDAR
VERSION:2.0
PRODID:-//CERN//INDICO//EN
BEGIN:VEVENT
SUMMARY:Palestra - A importância do fator humano para mitigar riscos de s
 egurança da informação
DTSTART;VALUE=DATE-TIME:20260505T212000Z
DTEND;VALUE=DATE-TIME:20260505T220000Z
DTSTAMP;VALUE=DATE-TIME:20260422T225610Z
UID:indico-contribution-1383@indico.rnp.br
DESCRIPTION:Speakers: Cristiane Fernandez Rodrigues (RNP)\nhttps://indico.
 rnp.br/event/175/contributions/1383/
LOCATION:Universidade Federal do Acre (UFAC)\, Rio Branco\, Acre Centro  d
 e Convenções da UFAC
URL:https://indico.rnp.br/event/175/contributions/1383/
END:VEVENT
END:VCALENDAR
