BEGIN:VCALENDAR
VERSION:2.0
PRODID:-//CERN//INDICO//EN
BEGIN:VEVENT
SUMMARY:Palestra - 5 razões pra não trabalhar com cibersegurança
DTSTART;VALUE=DATE-TIME:20260505T230000Z
DTEND;VALUE=DATE-TIME:20260505T233000Z
DTSTAMP;VALUE=DATE-TIME:20260422T225610Z
UID:indico-contribution-1386@indico.rnp.br
DESCRIPTION:Speakers: Márcio Guedes Cavalcante (IFAC)\nhttps://indico.rnp
 .br/event/175/contributions/1386/
LOCATION:Universidade Federal do Acre (UFAC)\, Rio Branco\, Acre Centro  d
 e Convenções da UFAC
URL:https://indico.rnp.br/event/175/contributions/1386/
END:VEVENT
END:VCALENDAR
